BEGIN:VCALENDAR
VERSION:2.0
PRODID:-//wp-events-plugin.com//7.2.3.1//EN
BEGIN:VEVENT
UID:25@runsandymoor.uk
DTSTART:20240905T183000Z
DTEND:20240905T193000Z
DTSTAMP:20240903T155251Z
URL:https://runsandymoor.uk/events/5k-to-10k-running-course/
SUMMARY:5K to 10K Running Course
DESCRIPTION: Run Sandymoor Members: Join Our 5K to 10K Running Course! \n
  Start Date: July 23rd 2024 Duration: 9 Weeks\n Session Schedule:\n\n
  	\nTuesdays &amp\; Thursdays: Leader Led Group Runs\n 	\nSundays: Indep
 endent Run\n\nWe are excited to announce a new 5K to 10K running course ex
 clusively for our Run Sandymoor members! This course is perfect for those 
 looking to take the next step in their running journey.\n Final Graduatio
 n Run:Warrington Running Festival 10K on September 22\, 2024https://warrin
 gtonrunningfestival.com/
ATTACH;FMTTYPE=image/jpeg:https://runsandymoor.uk/wp-content/uploads/2024/
 09/457623482_2824417771041612_8238082393832086845_n.jpg
LOCATION:Sandymoor School\, Wharford Ln\, RUNCORN\, Cheshire\, WA7 1QU\, Un
 ited Kingdom
X-APPLE-STRUCTURED-LOCATION;VALUE=URI;X-ADDRESS=Wharford Ln\, RUNCORN\, Che
 shire\, WA7 1QU\, United Kingdom;X-APPLE-RADIUS=100;X-TITLE=Sandymoor Scho
 ol:geo:0,0
END:VEVENT
END:VCALENDAR